BEGIN:VCALENDAR
VERSION:2.0
PRODID:-//CMCP (California Minority Counsel Program) - ECPv6.15.20//NONSGML v1.0//EN
CALSCALE:GREGORIAN
METHOD:PUBLISH
X-ORIGINAL-URL:https://cmcp.org
X-WR-CALDESC:Events for CMCP (California Minority Counsel Program)
REFRESH-INTERVAL;VALUE=DURATION:PT1H
X-Robots-Tag:noindex
X-PUBLISHED-TTL:PT1H
BEGIN:VTIMEZONE
TZID:America/Los_Angeles
BEGIN:DAYLIGHT
TZOFFSETFROM:-0800
TZOFFSETTO:-0700
TZNAME:PDT
DTSTART:20240310T100000
END:DAYLIGHT
BEGIN:STANDARD
TZOFFSETFROM:-0700
TZOFFSETTO:-0800
TZNAME:PST
DTSTART:20241103T090000
END:STANDARD
BEGIN:DAYLIGHT
TZOFFSETFROM:-0800
TZOFFSETTO:-0700
TZNAME:PDT
DTSTART:20250309T100000
END:DAYLIGHT
BEGIN:STANDARD
TZOFFSETFROM:-0700
TZOFFSETTO:-0800
TZNAME:PST
DTSTART:20251102T090000
END:STANDARD
BEGIN:DAYLIGHT
TZOFFSETFROM:-0800
TZOFFSETTO:-0700
TZNAME:PDT
DTSTART:20260308T100000
END:DAYLIGHT
BEGIN:STANDARD
TZOFFSETFROM:-0700
TZOFFSETTO:-0800
TZNAME:PST
DTSTART:20261101T090000
END:STANDARD
END:VTIMEZONE
BEGIN:VEVENT
DTSTART;VALUE=DATE:20250327
DTEND;VALUE=DATE:20250328
DTSTAMP:20260423T032703
CREATED:20250116T172731Z
LAST-MODIFIED:20250127T223544Z
UID:15741-1743033600-1743119999@cmcp.org
SUMMARY:Counsel Connect
DESCRIPTION:Build your business network during “Counsel Connect\,” a small group meeting designed to create a valuable and engaging experience that fosters new business relationships\, enhances networking\, and explores current and future business opportunities. \nThis virtual event features two separate 60-minute discussion rounds\, totaling a two-hour (120-minute) time commitment for participants. Each round will include a group consisting of up to two legal department attorneys and up to eight law firm attorneys\, with participants organized by practice area. Some practice areas may have multiple discussion groups (e.g.\, three groups for employment law). \nThe agenda includes dedicated time for attendees to learn about the needs and hiring protocols of the featured In-House Counsel\, along with opportunities for each law firm to showcase its expertise. \nThis dynamic format maximizes participants’ time and fosters meaningful discussions\, providing insights into how legal departments and firms can collaborate to promote diversity within their organizations and throughout the legal profession. \nDon’t miss the opportunity to connect\, collaborate\, and enhance your practice. \n\nDate: March 27\, 2025 \nTime: 8:45 am – 11:15 am PT \nSchedule: \n8:45 am – 9:00 am: Orientation and Tech Check \n9:00 am – 10:00 am: Round One \n10:00 am – 10:15 am Break \n10:15 am – 11:15 am Round Two \nRegister: \nIn-House Counsel Registration  \nOutside Counsel Registration
URL:https://cmcp.org/event/counsel-connect/
LOCATION:Virtual: Zoom Meeting
ATTACH;FMTTYPE=image/png:https://cmcp.org/wp-content/uploads/2025/01/CounselConnect-2025-e1738008560785.png
END:VEVENT
BEGIN:VEVENT
DTSTART;TZID=America/Los_Angeles:20250330T070000
DTEND;TZID=America/Los_Angeles:20250330T093000
DTSTAMP:20260423T032703
CREATED:20250306T203453Z
LAST-MODIFIED:20250514T035926Z
UID:15985-1743318000-1743327000@cmcp.org
SUMMARY:CMCPAC Community Nature Walk
DESCRIPTION:Join Us for a CMCPAC Community Nature Walk! \nJoin the CMCP Ambassadors Council for a refreshing Community Nature Walk on Sunday\, March 30! \nThis is a great opportunity to connect with fellow CMCP members and take in scenic views along the Ferndell to the West Observatory Loop Trail to Griffith Observatory. \nWe will start the hike at 7:30 am (so please arrive at least 15 minutes earlier) and should be done by 9:30 am.   \nBring your family\, friends\, and/or pets (dogs on leash) and join us to enjoy nature\, breathe fresh air\, and connect with fellow CMCP members! \nMeeting Spot: Corner of Los Feliz Blvd & Fern Dell Dr \nNote: This 2.6-mile moderate hike includes some steep inclines\, so bring comfortable shoes and water. \nSee: https://www.alltrails.com/trail/us/california/ferndell-to-the-west-observatory-loop-trail-to-griffith-observatory \nWe’d love to see you there! \nPlease RSVP below
URL:https://cmcp.org/event/cmcp-ambassadors-council-community-nature-walk/
LOCATION:Griffith Park\, 2333 Fern Dell Dr\, Los Angeles\, California\, 90068\, United States
CATEGORIES:Ambassadors Council
ATTACH;FMTTYPE=image/png:https://cmcp.org/wp-content/uploads/2025/03/CMCPAC-Nature-Walk-3.png
ORGANIZER;CN="CMCP Ambassadors Council":MAILTO:events.ac@cmcp.org
END:VEVENT
END:VCALENDAR