BEGIN:VCALENDAR
VERSION:2.0
PRODID:-//CMCP (California Minority Counsel Program) - ECPv6.15.20//NONSGML v1.0//EN
CALSCALE:GREGORIAN
METHOD:PUBLISH
X-WR-CALNAME:CMCP (California Minority Counsel Program)
X-ORIGINAL-URL:https://cmcp.org
X-WR-CALDESC:Events for CMCP (California Minority Counsel Program)
REFRESH-INTERVAL;VALUE=DURATION:PT1H
X-Robots-Tag:noindex
X-PUBLISHED-TTL:PT1H
BEGIN:VTIMEZONE
TZID:America/Los_Angeles
BEGIN:DAYLIGHT
TZOFFSETFROM:-0800
TZOFFSETTO:-0700
TZNAME:PDT
DTSTART:20190310T100000
END:DAYLIGHT
BEGIN:STANDARD
TZOFFSETFROM:-0700
TZOFFSETTO:-0800
TZNAME:PST
DTSTART:20191103T090000
END:STANDARD
BEGIN:DAYLIGHT
TZOFFSETFROM:-0800
TZOFFSETTO:-0700
TZNAME:PDT
DTSTART:20200308T100000
END:DAYLIGHT
BEGIN:STANDARD
TZOFFSETFROM:-0700
TZOFFSETTO:-0800
TZNAME:PST
DTSTART:20201101T090000
END:STANDARD
BEGIN:DAYLIGHT
TZOFFSETFROM:-0800
TZOFFSETTO:-0700
TZNAME:PDT
DTSTART:20210314T100000
END:DAYLIGHT
BEGIN:STANDARD
TZOFFSETFROM:-0700
TZOFFSETTO:-0800
TZNAME:PST
DTSTART:20211107T090000
END:STANDARD
END:VTIMEZONE
BEGIN:VEVENT
DTSTART;TZID=America/Los_Angeles:20200813T130000
DTEND;TZID=America/Los_Angeles:20200813T140000
DTSTAMP:20260424T014942
CREATED:20200721T203430Z
LAST-MODIFIED:20241031T204834Z
UID:8662-1597323600-1597327200@cmcp.org
SUMMARY:Demystifying Business Development in the Virtual Environment
DESCRIPTION:When in-person meetings are no longer possible\, what does business development look like\, and how does one do it effectively? \nJoin us to discuss the new challenges in creating virtual business opportunities and learn tips on how to: \n– Make new contacts/add to your network\n– Build strong\, empathetic relationships including across racial/cultural differences\n– Adapt to/overcome technological challenges \nDetails: \n1pm- 2pm \nSpeakers: \nRichard Amador\nManaging Partner\nSanchez & Amador\, LLP \nMarc Fernandez\nAssistant General Counsel\nIntuit \nLaura Maechtlen\nNational Chair\, Labor and Employment Department\nSeyfarth Shaw LLP \nTiffany Renee Thomas\nEmployment Counsel\nGenentech \nModerator:\nMing Zhu\nCorporate Counsel\nGoogle LLC
URL:https://cmcp.org/event/demystifying-business-development-in-the-virtual-environment/
LOCATION:Online
CATEGORIES:Ambassadors Council
ATTACH;FMTTYPE=image/png:https://cmcp.org/wp-content/uploads/2020/07/EventFlyer_DemistifyingBusiness_081320-v2.png
END:VEVENT
BEGIN:VEVENT
DTSTART;TZID=America/Los_Angeles:20200731T140000
DTEND;TZID=America/Los_Angeles:20200731T150000
DTSTAMP:20260424T014942
CREATED:20200729T190233Z
LAST-MODIFIED:20241031T204834Z
UID:8684-1596204000-1596207600@cmcp.org
SUMMARY:ACC SoCal & Ogletree Deakins Present: Social Justice in the Modern Civil Rights Era A Series
DESCRIPTION:In collaboration with Ogletree Deakins\, the ACC-SoCal Diversity and Inclusion committee is excited to launch a series of web-based programs centered on racial justice and reform. The series will provide our members the opportunity to hear from prominent leaders in the Civil Rights Movement and promote understanding\, dialogue and practical tools for creating change in our organization and communities. \nPlease join us at 2p.m. Friday\, July 31\, as we kick off this program with an interview of iconic civil rights leader Reverend James Lawson\, who will share his insights on the current racial justice movement and what corporate counsel can do to support it.
URL:https://cmcp.org/event/acc-socal-ogletree-deakins-present-social-justice-in-the-modern-civil-rights-era-a-series/
LOCATION:Online
ATTACH;FMTTYPE=image/jpeg:https://cmcp.org/wp-content/uploads/2020/07/EventFlyer_ACCWebinar_073120.jpg
END:VEVENT
BEGIN:VEVENT
DTSTART;TZID=America/Los_Angeles:20200716T130000
DTEND;TZID=America/Los_Angeles:20200716T140000
DTSTAMP:20260424T014942
CREATED:20200610T174947Z
LAST-MODIFIED:20241031T204834Z
UID:8577-1594904400-1594908000@cmcp.org
SUMMARY:Building Allyship Among Attorneys of Color
DESCRIPTION:During this program\, participants will: \n\nBriefly examine demographic data and historical trends regarding numbers of racial minority attorneys at US law firms\nDiscuss barriers and traditional barriers to retention and advancement of attorneys of color\nDiscuss how law firm affinity groups\, ERGs and individual minority attorneys have worked to advance minority attorneys\n\nExplore opportunities for allyship and collaboration across boundaries of racial identity \nDetails: \n1pm- 2pm \nSpeakers: \nBrandon R. Mita\nAssociate\, Littler Mendelson \nRasha Gerges Shields\nPartner\, Jones Day \nMichael A. Wilder\nShareholder\, Littler Mendelson \nModerator: \nRobert White\nExecutive Director\, CMCP \nMCLE: \n1.0 hour CA MCLE Recognition and Elimination of Bias Credit
URL:https://cmcp.org/event/baaac-071620/
LOCATION:Online
ATTACH;FMTTYPE=image/jpeg:https://cmcp.org/wp-content/uploads/2020/06/EventFlyer_Building-Allyship_071620-v3.jpg
END:VEVENT
BEGIN:VEVENT
DTSTART;TZID=America/Los_Angeles:20200709T130000
DTEND;TZID=America/Los_Angeles:20200709T140000
DTSTAMP:20260424T014942
CREATED:20200624T173014Z
LAST-MODIFIED:20241031T204834Z
UID:8604-1594299600-1594303200@cmcp.org
SUMMARY:Juggling in a Crisis:  Don’t Drop the Self-Care Ball
DESCRIPTION:Our lives include constant juggling – family\, work obligations\, friends\, social media\, organizational commitments\, and more. What happens with self-care\, especially in times of crisis when other duties become magnified? It’s time for real talk about the struggles we are facing during this crisis\, how to juggle more effectively\, and making sure we don’t drop the most important ball of self-care. \nLocation:\nZoom Webinar \nTime:\n1:00pm – 2:00pm \nModerator: \nRobert White\nExecutive Director\nCalifornia Minority Counsel Program \nSpeaker: \nNicole Hancock Husband\nVice President\, Human Resources Warner Bros. Television\nWarner Bros. Entertainment Inc.
URL:https://cmcp.org/event/jic-07092020/
LOCATION:Online
ATTACH;FMTTYPE=image/jpeg:https://cmcp.org/wp-content/uploads/2020/06/JugglingCrisis_v03_1050x750_06_25_2020.jpg
END:VEVENT
BEGIN:VEVENT
DTSTART;TZID=America/Los_Angeles:20200625T130000
DTEND;TZID=America/Los_Angeles:20200625T140000
DTSTAMP:20260424T014942
CREATED:20200603T170603Z
LAST-MODIFIED:20241031T204834Z
UID:8555-1593090000-1593093600@cmcp.org
SUMMARY:CMCP Virtual Program Step Up!
DESCRIPTION:An interactive program that provides networking and professional development for the next generation of attorneys of color\, at which attendees will learn from and with their law firm and inhouse peers. \nParticipants will:\n• Hear tips and best practices on networking and professional development from an experienced attorney \n• Have an opportunity to practice networking techniques and pitches and receive feedback \n• Have an opportunity to connect with like-situated attorneys to share experiences on opportunities and challenges in networking and professional development \nLocation:\nZoom Webinar \nTime:\n1:00pm – 2:00pm \nModerator: \nAngelo Primas\nCounsel\, Executive and Talent Contracts\nNBCUniversal Media LLC \nSpeakers: \nShareef Farag\nPartner\nBaker & Hostetler LLP
URL:https://cmcp.org/event/vpsu-062520/
LOCATION:Online
CATEGORIES:Ambassadors Council
ATTACH;FMTTYPE=image/png:https://cmcp.org/wp-content/uploads/2020/06/Step-Up-Networking_06_25_2020_v2.png
END:VEVENT
BEGIN:VEVENT
DTSTART;TZID=America/Los_Angeles:20200603T130000
DTEND;TZID=America/Los_Angeles:20200603T140000
DTSTAMP:20260424T014942
CREATED:20200513T180022Z
LAST-MODIFIED:20241031T204834Z
UID:8505-1591189200-1591192800@cmcp.org
SUMMARY:CMCP Virtual Fireside Chat with Black GCs: "Building Career Agility"
DESCRIPTION:CMCP proudly presents the Fireside Chat webinar series. Please join the Executive Director of CMCP for a conversation with the Black General Counsel of prominent companies\, to hear about their careers and how to build career agility. \nModerator:\nTiffany Renee Thomas\nSenior Counsel\, Employment Law & Benefits\, Genentech\n\nPanelists:\nJune M. Baldwin\nSenior Vice President and General Counsel\, Public Media Group of Southern California (KCET\, PBS So Cal\, Link TV)\n\nDerrick Boston\nChief Administrative Officer and General Counsel\nVirgin Orbit\n\nLawrence C. Hinkle II\nChief Operating Officer and General Counsel\nUrbanFlixTV\n\nBrandon R. Williams\nChief Operating Officer and Chief Legal Officer\nSteve Harvey Global\n 
URL:https://cmcp.org/event/bca-060320/
LOCATION:Online
ATTACH;FMTTYPE=image/jpeg:https://cmcp.org/wp-content/uploads/2020/05/EventHeader_BCA_v2.jpg
END:VEVENT
END:VCALENDAR